BEGIN:VCALENDAR
VERSION:2.0
PRODID:-//Tukios.com/
BEGIN:VEVENT
UID:0e6e5fc7-da8e-4ce8-bafb-d13628cc2ab4@www.honoringmemoriesvinita.com
DTSTAMP:20260420T184621Z
DTSTART:20260421T220000Z
DTEND:20260422T000000Z
SUMMARY:Visitation
DESCRIPTION:
URL:https://www.honoringmemoriesvinita.com/obituaries/russell-hogan
LOCATION: 13163 OK-28  Langley OK 74350
GEO:36.4713878;-95.0464315
END:VEVENT
END:VCALENDAR