BEGIN:VCALENDAR
VERSION:2.0
PRODID:-//Tukios.com/
BEGIN:VEVENT
UID:51fe2cdb-7dec-45bd-9c1b-0fc254b1a346@www.honoringmemoriesvinita.com
DTSTAMP:20260420T184756Z
DTSTART:20260422T190000Z
DTEND:20260422T200000Z
SUMMARY:Celebration of Life
DESCRIPTION:
URL:https://www.honoringmemoriesvinita.com/obituaries/russell-hogan
LOCATION: 13163 OK-28  Langley OK 74350
GEO:36.4713878;-95.0464315
END:VEVENT
END:VCALENDAR