BEGIN:VCALENDAR
VERSION:2.0
PRODID:-//Tukios.com/
BEGIN:VEVENT
UID:65b89fb8-ffa5-4bf4-bd8e-e855ae15f8a6@www.honoringmemoriesvinita.com
DTSTAMP:20260420T184621Z
DTSTART:20260422
SUMMARY:Interment
DESCRIPTION:
URL:https://www.honoringmemoriesvinita.com/obituaries/russell-hogan
LOCATION: State Hwy 82  Spavinaw OK 74366
GEO:36.3971233;-95.0466978
END:VEVENT
END:VCALENDAR